BEGIN:VCALENDAR
VERSION:2.0
PRODID:-//Dan Dyer Music - ECPv6.15.20//NONSGML v1.0//EN
CALSCALE:GREGORIAN
METHOD:PUBLISH
X-WR-CALNAME:Dan Dyer Music
X-ORIGINAL-URL:https://dandyermusic.ca
X-WR-CALDESC:Events for Dan Dyer Music
REFRESH-INTERVAL;VALUE=DURATION:PT1H
X-Robots-Tag:noindex
X-PUBLISHED-TTL:PT1H
BEGIN:VTIMEZONE
TZID:UTC
BEGIN:STANDARD
TZOFFSETFROM:+0000
TZOFFSETTO:+0000
TZNAME:UTC
DTSTART:20210101T000000
END:STANDARD
END:VTIMEZONE
BEGIN:VTIMEZONE
TZID:America/Halifax
BEGIN:DAYLIGHT
TZOFFSETFROM:-0400
TZOFFSETTO:-0300
TZNAME:ADT
DTSTART:20210314T060000
END:DAYLIGHT
BEGIN:STANDARD
TZOFFSETFROM:-0300
TZOFFSETTO:-0400
TZNAME:AST
DTSTART:20211107T050000
END:STANDARD
BEGIN:DAYLIGHT
TZOFFSETFROM:-0400
TZOFFSETTO:-0300
TZNAME:ADT
DTSTART:20220313T060000
END:DAYLIGHT
BEGIN:STANDARD
TZOFFSETFROM:-0300
TZOFFSETTO:-0400
TZNAME:AST
DTSTART:20221106T050000
END:STANDARD
BEGIN:DAYLIGHT
TZOFFSETFROM:-0400
TZOFFSETTO:-0300
TZNAME:ADT
DTSTART:20230312T060000
END:DAYLIGHT
BEGIN:STANDARD
TZOFFSETFROM:-0300
TZOFFSETTO:-0400
TZNAME:AST
DTSTART:20231105T050000
END:STANDARD
END:VTIMEZONE
BEGIN:VTIMEZONE
TZID:Asia/Dubai
BEGIN:STANDARD
TZOFFSETFROM:+0400
TZOFFSETTO:+0400
TZNAME:+04
DTSTART:20210101T000000
END:STANDARD
END:VTIMEZONE
BEGIN:VTIMEZONE
TZID:America/Toronto
BEGIN:DAYLIGHT
TZOFFSETFROM:-0500
TZOFFSETTO:-0400
TZNAME:EDT
DTSTART:20210314T070000
END:DAYLIGHT
BEGIN:STANDARD
TZOFFSETFROM:-0400
TZOFFSETTO:-0500
TZNAME:EST
DTSTART:20211107T060000
END:STANDARD
BEGIN:DAYLIGHT
TZOFFSETFROM:-0500
TZOFFSETTO:-0400
TZNAME:EDT
DTSTART:20220313T070000
END:DAYLIGHT
BEGIN:STANDARD
TZOFFSETFROM:-0400
TZOFFSETTO:-0500
TZNAME:EST
DTSTART:20221106T060000
END:STANDARD
BEGIN:DAYLIGHT
TZOFFSETFROM:-0500
TZOFFSETTO:-0400
TZNAME:EDT
DTSTART:20230312T070000
END:DAYLIGHT
BEGIN:STANDARD
TZOFFSETFROM:-0400
TZOFFSETTO:-0500
TZNAME:EST
DTSTART:20231105T060000
END:STANDARD
END:VTIMEZONE
BEGIN:VEVENT
DTSTART;VALUE=DATE:20220902
DTEND;VALUE=DATE:20220911
DTSTAMP:20260421T125818
CREATED:20220617T034836Z
LAST-MODIFIED:20220617T034836Z
UID:528-1662076800-1662854399@dandyermusic.ca
SUMMARY:Not Available
DESCRIPTION:
URL:https://dandyermusic.ca/event/not-available-8/
END:VEVENT
BEGIN:VEVENT
DTSTART;TZID=America/Halifax:20220911T130000
DTEND;TZID=America/Halifax:20220911T153000
DTSTAMP:20260421T125818
CREATED:20220831T195159Z
LAST-MODIFIED:20220831T195159Z
UID:558-1662901200-1662910200@dandyermusic.ca
SUMMARY:Private Function
DESCRIPTION:
URL:https://dandyermusic.ca/event/private-function-4/
END:VEVENT
BEGIN:VEVENT
DTSTART;TZID=Asia/Dubai:20220911T190000
DTEND;TZID=Asia/Dubai:20220911T220000
DTSTAMP:20260421T125818
CREATED:20220831T194603Z
LAST-MODIFIED:20220831T194603Z
UID:556-1662922800-1662933600@dandyermusic.ca
SUMMARY:Private Function
DESCRIPTION:
URL:https://dandyermusic.ca/event/private-function-3/
END:VEVENT
BEGIN:VEVENT
DTSTART;TZID=UTC:20220916T140000
DTEND;TZID=UTC:20220916T150000
DTSTAMP:20260421T125818
CREATED:20220602T211826Z
LAST-MODIFIED:20220602T211826Z
UID:474-1663336800-1663340400@dandyermusic.ca
SUMMARY:Heatherwood Retirement Residence - Assisted Living
DESCRIPTION:
URL:https://dandyermusic.ca/event/heatherwood-retirement-residence-assisted-living-3/
LOCATION:Heatherwood Retirement Residence\, 113 Scott St\, St. Catharines\, Ontario\, L2N 7L2\, Canada
END:VEVENT
BEGIN:VEVENT
DTSTART;TZID=Asia/Dubai:20220916T153000
DTEND;TZID=Asia/Dubai:20220916T163000
DTSTAMP:20260421T125818
CREATED:20220602T211120Z
LAST-MODIFIED:20220602T211655Z
UID:470-1663342200-1663345800@dandyermusic.ca
SUMMARY:Heatherwood Retirement Residence - Independent Living
DESCRIPTION:
URL:https://dandyermusic.ca/event/heatherwood-retirement-residence-independent-living-3/
LOCATION:Heatherwood Retirement Residence\, 113 Scott St\, St. Catharines\, Ontario\, L2N 7L2\, Canada
END:VEVENT
BEGIN:VEVENT
DTSTART;TZID=Asia/Dubai:20220916T200000
DTEND;TZID=Asia/Dubai:20220916T233000
DTSTAMP:20260421T125818
CREATED:20220913T184758Z
LAST-MODIFIED:20220913T184810Z
UID:568-1663358400-1663371000@dandyermusic.ca
SUMMARY:Brown Barrel
DESCRIPTION:
URL:https://dandyermusic.ca/event/brown-barrel-3/
LOCATION:The Brown Barrel\, 1515 Upper Ottawa St\, Hamilton\, Ontario\, L8W3E2\, Canada
END:VEVENT
BEGIN:VEVENT
DTSTART;TZID=America/Halifax:20220917T190000
DTEND;TZID=America/Halifax:20220917T230000
DTSTAMP:20260421T125818
CREATED:20220831T195613Z
LAST-MODIFIED:20220831T195613Z
UID:560-1663441200-1663455600@dandyermusic.ca
SUMMARY:Cayuga Trailer Park
DESCRIPTION:
URL:https://dandyermusic.ca/event/cayuga-trailer-park/
END:VEVENT
BEGIN:VEVENT
DTSTART;TZID=Asia/Dubai:20220918T140000
DTEND;TZID=Asia/Dubai:20220918T180000
DTSTAMP:20260421T125818
CREATED:20220831T194151Z
LAST-MODIFIED:20220831T194237Z
UID:553-1663509600-1663524000@dandyermusic.ca
SUMMARY:Port Dover Legion
DESCRIPTION:
URL:https://dandyermusic.ca/event/port-dover-legion-2/
LOCATION:Port Dover Legion\, 212 Market St E\, Port Dover\, Ontario\, N0A 1N0\, Canada
END:VEVENT
BEGIN:VEVENT
DTSTART;TZID=Asia/Dubai:20220920T133000
DTEND;TZID=Asia/Dubai:20220920T150000
DTSTAMP:20260421T125818
CREATED:20220831T193758Z
LAST-MODIFIED:20220831T193758Z
UID:549-1663680600-1663686000@dandyermusic.ca
SUMMARY:Ina Grafton Patio
DESCRIPTION:
URL:https://dandyermusic.ca/event/ina-grafton-patio/
END:VEVENT
BEGIN:VEVENT
DTSTART;TZID=Asia/Dubai:20220920T153000
DTEND;TZID=Asia/Dubai:20220920T163000
DTSTAMP:20260421T125818
CREATED:20220831T193943Z
LAST-MODIFIED:20220831T193943Z
UID:551-1663687800-1663691400@dandyermusic.ca
SUMMARY:Ina Grafton LTC Dining Room
DESCRIPTION:
URL:https://dandyermusic.ca/event/ina-grafton-ltc-dining-room/
LOCATION:Ina Grafton\, 413 Linwell Road\, St\, Catharines\, Ontario\, Canada
END:VEVENT
BEGIN:VEVENT
DTSTART;TZID=UTC:20220922T140000
DTEND;TZID=UTC:20220922T150000
DTSTAMP:20260421T125818
CREATED:20220323T185107Z
LAST-MODIFIED:20220323T185107Z
UID:359-1663855200-1663858800@dandyermusic.ca
SUMMARY:Revera Maplecrest Village
DESCRIPTION:
URL:https://dandyermusic.ca/event/revera-maplecrest-village-3/
LOCATION:Maplecrest Village Retirement Living\, 85 Main St East\, Grimsby\, Ontario\, L3M 1N6\, Canada
END:VEVENT
BEGIN:VEVENT
DTSTART;TZID=America/Toronto:20220924T170000
DTEND;TZID=America/Toronto:20220924T210000
DTSTAMP:20260421T125818
CREATED:20220913T185737Z
LAST-MODIFIED:20220913T185737Z
UID:572-1664038800-1664053200@dandyermusic.ca
SUMMARY:Private Function
DESCRIPTION:
URL:https://dandyermusic.ca/event/private-function-5/
LOCATION:Private Function
END:VEVENT
BEGIN:VEVENT
DTSTART;TZID=UTC:20220929T144500
DTEND;TZID=UTC:20220929T154500
DTSTAMP:20260421T125818
CREATED:20220325T180303Z
LAST-MODIFIED:20220325T180303Z
UID:400-1664462700-1664466300@dandyermusic.ca
SUMMARY:Parkview Nursing Centre
DESCRIPTION:
URL:https://dandyermusic.ca/event/parkview-nursing-centre-2/
LOCATION:Parkview Nursing Centre\, 545 King St W\, Hamilton\, Ontario\, L8P 1C1\, Canada
END:VEVENT
END:VCALENDAR