BEGIN:VCALENDAR
VERSION:2.0
PRODID:-//Dan Dyer Music - ECPv6.15.20//NONSGML v1.0//EN
CALSCALE:GREGORIAN
METHOD:PUBLISH
X-ORIGINAL-URL:https://dandyermusic.ca
X-WR-CALDESC:Events for Dan Dyer Music
REFRESH-INTERVAL;VALUE=DURATION:PT1H
X-Robots-Tag:noindex
X-PUBLISHED-TTL:PT1H
BEGIN:VTIMEZONE
TZID:UTC
BEGIN:STANDARD
TZOFFSETFROM:+0000
TZOFFSETTO:+0000
TZNAME:UTC
DTSTART:20210101T000000
END:STANDARD
END:VTIMEZONE
BEGIN:VTIMEZONE
TZID:Asia/Karachi
BEGIN:STANDARD
TZOFFSETFROM:+0500
TZOFFSETTO:+0500
TZNAME:PKT
DTSTART:20210101T000000
END:STANDARD
END:VTIMEZONE
BEGIN:VTIMEZONE
TZID:Asia/Dubai
BEGIN:STANDARD
TZOFFSETFROM:+0400
TZOFFSETTO:+0400
TZNAME:+04
DTSTART:20210101T000000
END:STANDARD
END:VTIMEZONE
BEGIN:VTIMEZONE
TZID:America/New_York
BEGIN:DAYLIGHT
TZOFFSETFROM:-0500
TZOFFSETTO:-0400
TZNAME:EDT
DTSTART:20210314T070000
END:DAYLIGHT
BEGIN:STANDARD
TZOFFSETFROM:-0400
TZOFFSETTO:-0500
TZNAME:EST
DTSTART:20211107T060000
END:STANDARD
BEGIN:DAYLIGHT
TZOFFSETFROM:-0500
TZOFFSETTO:-0400
TZNAME:EDT
DTSTART:20220313T070000
END:DAYLIGHT
BEGIN:STANDARD
TZOFFSETFROM:-0400
TZOFFSETTO:-0500
TZNAME:EST
DTSTART:20221106T060000
END:STANDARD
BEGIN:DAYLIGHT
TZOFFSETFROM:-0500
TZOFFSETTO:-0400
TZNAME:EDT
DTSTART:20230312T070000
END:DAYLIGHT
BEGIN:STANDARD
TZOFFSETFROM:-0400
TZOFFSETTO:-0500
TZNAME:EST
DTSTART:20231105T060000
END:STANDARD
END:VTIMEZONE
BEGIN:VEVENT
DTSTART;TZID=UTC:20220701T210000
DTEND;TZID=UTC:20220701T233000
DTSTAMP:20260421T161232
CREATED:20220609T003754Z
LAST-MODIFIED:20220609T010039Z
UID:503-1656709200-1656718200@dandyermusic.ca
SUMMARY:Gator at the Norfolk
DESCRIPTION:
URL:https://dandyermusic.ca/event/gator-at-the-norfolk-3/
LOCATION:Gator at The Norfolk\, 200 Main St\, Port Dover\, Ontario\, N0A 1N0\, Canada
END:VEVENT
BEGIN:VEVENT
DTSTART;TZID=Asia/Karachi:20220702T190000
DTEND;TZID=Asia/Karachi:20220702T220000
DTSTAMP:20260421T161232
CREATED:20220625T141044Z
LAST-MODIFIED:20220625T141044Z
UID:534-1656788400-1656799200@dandyermusic.ca
SUMMARY:Highland RV Camping Resort
DESCRIPTION:
URL:https://dandyermusic.ca/event/highland-rv-camping-resort/
LOCATION:Highland RV Camping Resort\, 1958 N Shore Dr\, Lowbanks\, Ontario\, N0A 1K0\, Canada
END:VEVENT
BEGIN:VEVENT
DTSTART;TZID=UTC:20220713T123000
DTEND;TZID=UTC:20220713T133000
DTSTAMP:20260421T161232
CREATED:20220617T200348Z
LAST-MODIFIED:20220617T201728Z
UID:530-1657715400-1657719000@dandyermusic.ca
SUMMARY:Chartwell Willowgrove
DESCRIPTION:Chartwell
URL:https://dandyermusic.ca/event/chartwell-willowgrove/
LOCATION:Chartwell Willowgrove LTC\, 1217 Old Mohawk Rd\, Hamilton\, Ontario\, L9K 1P6\, Canada
END:VEVENT
BEGIN:VEVENT
DTSTART;TZID=UTC:20220714T143000
DTEND;TZID=UTC:20220714T153000
DTSTAMP:20260421T161232
CREATED:20220425T175208Z
LAST-MODIFIED:20220425T175208Z
UID:445-1657809000-1657812600@dandyermusic.ca
SUMMARY:Heritage Green Nursing Home
DESCRIPTION:
URL:https://dandyermusic.ca/event/heritage-green-nursing-home-2/
LOCATION:Heritage Green Nursing Home\, 353 Isaac Brock Drive\, Stoney Creek\, Ontaio\, L8J 2J3\, Canada
END:VEVENT
BEGIN:VEVENT
DTSTART;VALUE=DATE:20220716
DTEND;VALUE=DATE:20220717
DTSTAMP:20260421T161232
CREATED:20220625T141713Z
LAST-MODIFIED:20220625T141713Z
UID:537-1657929600-1658015999@dandyermusic.ca
SUMMARY:Not Available
DESCRIPTION:
URL:https://dandyermusic.ca/event/not-available-9/
END:VEVENT
BEGIN:VEVENT
DTSTART;TZID=Asia/Dubai:20220722T140000
DTEND;TZID=Asia/Dubai:20220722T150000
DTSTAMP:20260421T161232
CREATED:20220602T210315Z
LAST-MODIFIED:20220602T210419Z
UID:463-1658498400-1658502000@dandyermusic.ca
SUMMARY:Heatherwood Retirement Residence - Assisted Living
DESCRIPTION:
URL:https://dandyermusic.ca/event/heatherwood-retirement-residence/
LOCATION:Heatherwood Retirement Residence\, 113 Scott St\, St. Catharines\, Ontario\, L2N 7L2\, Canada
END:VEVENT
BEGIN:VEVENT
DTSTART;TZID=Asia/Dubai:20220722T153000
DTEND;TZID=Asia/Dubai:20220722T163000
DTSTAMP:20260421T161232
CREATED:20220602T210617Z
LAST-MODIFIED:20220602T210617Z
UID:466-1658503800-1658507400@dandyermusic.ca
SUMMARY:Heatherwood Retirement Residence - Independent Living
DESCRIPTION:
URL:https://dandyermusic.ca/event/heatherwood-retirement-residence-independent-living-2/
LOCATION:Heatherwood Retirement Residence\, 113 Scott St\, St. Catharines\, Ontario\, L2N 7L2\, Canada
END:VEVENT
BEGIN:VEVENT
DTSTART;TZID=UTC:20220722T170000
DTEND;TZID=UTC:20220724T160000
DTSTAMP:20260421T161232
CREATED:20220617T030242Z
LAST-MODIFIED:20220617T030501Z
UID:526-1658509200-1658678400@dandyermusic.ca
SUMMARY:Not Available
DESCRIPTION:
URL:https://dandyermusic.ca/event/not-available-7/
END:VEVENT
BEGIN:VEVENT
DTSTART;TZID=UTC:20220724T153000
DTEND;TZID=UTC:20220724T193000
DTSTAMP:20260421T161232
CREATED:20220617T025811Z
LAST-MODIFIED:20220617T025811Z
UID:524-1658676600-1658691000@dandyermusic.ca
SUMMARY:Gator At The Norfolk
DESCRIPTION:
URL:https://dandyermusic.ca/event/gator-at-the-norfolk-5/
LOCATION:Gator at The Norfolk\, 200 Main St\, Port Dover\, Ontario\, N0A 1N0\, Canada
END:VEVENT
BEGIN:VEVENT
DTSTART;VALUE=DATE:20220728
DTEND;VALUE=DATE:20220801
DTSTAMP:20260421T161232
CREATED:20220321T213749Z
LAST-MODIFIED:20220321T214030Z
UID:328-1658966400-1659311999@dandyermusic.ca
SUMMARY:Not Available
DESCRIPTION:Not Available
URL:https://dandyermusic.ca/event/not-available-3/
END:VEVENT
BEGIN:VEVENT
DTSTART;VALUE=DATE:20220801
DTEND;VALUE=DATE:20220806
DTSTAMP:20260421T161232
CREATED:20220321T214250Z
LAST-MODIFIED:20220321T214250Z
UID:330-1659312000-1659743999@dandyermusic.ca
SUMMARY:Not Available
DESCRIPTION:Not Available
URL:https://dandyermusic.ca/event/not-available-4/
END:VEVENT
END:VCALENDAR