BEGIN:VCALENDAR
VERSION:2.0
PRODID:-//Dan Dyer Music - ECPv6.15.20//NONSGML v1.0//EN
CALSCALE:GREGORIAN
METHOD:PUBLISH
X-ORIGINAL-URL:https://dandyermusic.ca
X-WR-CALDESC:Events for Dan Dyer Music
REFRESH-INTERVAL;VALUE=DURATION:PT1H
X-Robots-Tag:noindex
X-PUBLISHED-TTL:PT1H
BEGIN:VTIMEZONE
TZID:UTC
BEGIN:STANDARD
TZOFFSETFROM:+0000
TZOFFSETTO:+0000
TZNAME:UTC
DTSTART:20210101T000000
END:STANDARD
END:VTIMEZONE
BEGIN:VEVENT
DTSTART;TZID=UTC:20221216T140000
DTEND;TZID=UTC:20221216T150000
DTSTAMP:20260421T100216
CREATED:20220602T212541Z
LAST-MODIFIED:20220602T212541Z
UID:486-1671199200-1671202800@dandyermusic.ca
SUMMARY:Heatherwood Retirement Residence - Assisted Living
DESCRIPTION:
URL:https://dandyermusic.ca/event/heatherwood-retirement-residence-assisted-living-6/
LOCATION:Heatherwood Retirement Residence\, 113 Scott St\, St. Catharines\, Ontario\, L2N 7L2\, Canada
END:VEVENT
BEGIN:VEVENT
DTSTART;TZID=UTC:20221216T153000
DTEND;TZID=UTC:20221216T163000
DTSTAMP:20260421T100216
CREATED:20220602T212423Z
LAST-MODIFIED:20220602T212423Z
UID:484-1671204600-1671208200@dandyermusic.ca
SUMMARY:Heatherwood Retirement Residence - Independent Living
DESCRIPTION:
URL:https://dandyermusic.ca/event/heatherwood-retirement-residence-independent-living-6/
LOCATION:Heatherwood Retirement Residence\, 113 Scott St\, St. Catharines\, Ontario\, L2N 7L2\, Canada
END:VEVENT
END:VCALENDAR