BEGIN:VCALENDAR
VERSION:2.0
PRODID:-//Dan Dyer Music - ECPv6.15.20//NONSGML v1.0//EN
CALSCALE:GREGORIAN
METHOD:PUBLISH
X-ORIGINAL-URL:https://dandyermusic.ca
X-WR-CALDESC:Events for Dan Dyer Music
REFRESH-INTERVAL;VALUE=DURATION:PT1H
X-Robots-Tag:noindex
X-PUBLISHED-TTL:PT1H
BEGIN:VTIMEZONE
TZID:UTC
BEGIN:STANDARD
TZOFFSETFROM:+0000
TZOFFSETTO:+0000
TZNAME:UTC
DTSTART:20210101T000000
END:STANDARD
END:VTIMEZONE
BEGIN:VEVENT
DTSTART;TZID=UTC:20221209T200000
DTEND;TZID=UTC:20221209T235900
DTSTAMP:20260421T102244
CREATED:20221205T192520Z
LAST-MODIFIED:20221205T192520Z
UID:699-1670616000-1670630340@dandyermusic.ca
SUMMARY:Brown Barrel Christmas
DESCRIPTION:
URL:https://dandyermusic.ca/event/brown-barrel-christmas/
LOCATION:The Brown Barrel\, 1515 Upper Ottawa St\, Hamilton\, Ontario\, L8W3E2\, Canada
END:VEVENT
END:VCALENDAR