BEGIN:VCALENDAR
VERSION:2.0
PRODID:-//Dan Dyer Music - ECPv6.15.20//NONSGML v1.0//EN
CALSCALE:GREGORIAN
METHOD:PUBLISH
X-ORIGINAL-URL:https://dandyermusic.ca
X-WR-CALDESC:Events for Dan Dyer Music
REFRESH-INTERVAL;VALUE=DURATION:PT1H
X-Robots-Tag:noindex
X-PUBLISHED-TTL:PT1H
BEGIN:VTIMEZONE
TZID:America/Toronto
BEGIN:DAYLIGHT
TZOFFSETFROM:-0500
TZOFFSETTO:-0400
TZNAME:EDT
DTSTART:20210314T070000
END:DAYLIGHT
BEGIN:STANDARD
TZOFFSETFROM:-0400
TZOFFSETTO:-0500
TZNAME:EST
DTSTART:20211107T060000
END:STANDARD
BEGIN:DAYLIGHT
TZOFFSETFROM:-0500
TZOFFSETTO:-0400
TZNAME:EDT
DTSTART:20220313T070000
END:DAYLIGHT
BEGIN:STANDARD
TZOFFSETFROM:-0400
TZOFFSETTO:-0500
TZNAME:EST
DTSTART:20221106T060000
END:STANDARD
BEGIN:DAYLIGHT
TZOFFSETFROM:-0500
TZOFFSETTO:-0400
TZNAME:EDT
DTSTART:20230312T070000
END:DAYLIGHT
BEGIN:STANDARD
TZOFFSETFROM:-0400
TZOFFSETTO:-0500
TZNAME:EST
DTSTART:20231105T060000
END:STANDARD
END:VTIMEZONE
BEGIN:VEVENT
DTSTART;TZID=America/Toronto:20221118T190000
DTEND;TZID=America/Toronto:20221118T220000
DTSTAMP:20260421T113555
CREATED:20220913T192954Z
LAST-MODIFIED:20221117T193909Z
UID:590-1668798000-1668808800@dandyermusic.ca
SUMMARY:Royal Canadian Legion Branch 159 Cayuga\, Ontario
DESCRIPTION:
URL:https://dandyermusic.ca/event/royal-canadian-legion-branch-159-cayuga-ontario/
LOCATION:Royal Canadian Legion Branch 159 Cayuga\, Ontario\, 11 Talbot St W\, Cayuga\, Ontario\, N0A 1E0\, Canada
ATTACH;FMTTYPE=image/png:https://dandyermusic.ca/wp-content/uploads/2022/03/Dan-Dyer-Music5.png
END:VEVENT
END:VCALENDAR