BEGIN:VCALENDAR
VERSION:2.0
PRODID:-//Dan Dyer Music - ECPv6.15.20//NONSGML v1.0//EN
CALSCALE:GREGORIAN
METHOD:PUBLISH
X-WR-CALNAME:Dan Dyer Music
X-ORIGINAL-URL:https://dandyermusic.ca
X-WR-CALDESC:Events for Dan Dyer Music
REFRESH-INTERVAL;VALUE=DURATION:PT1H
X-Robots-Tag:noindex
X-PUBLISHED-TTL:PT1H
BEGIN:VTIMEZONE
TZID:Asia/Dubai
BEGIN:STANDARD
TZOFFSETFROM:+0400
TZOFFSETTO:+0400
TZNAME:+04
DTSTART:20210101T000000
END:STANDARD
END:VTIMEZONE
BEGIN:VEVENT
DTSTART;TZID=Asia/Dubai:20220826T180000
DTEND;TZID=Asia/Dubai:20220826T190000
DTSTAMP:20260423T102650
CREATED:20220705T172530Z
LAST-MODIFIED:20220705T172530Z
UID:544-1661536800-1661540400@dandyermusic.ca
SUMMARY:Chartwell Willowgrove LTR
DESCRIPTION:
URL:https://dandyermusic.ca/event/chartwell-willowgrove-ltr/
LOCATION:Chartwell Willowgrove LTC\, 1217 Old Mohawk Rd\, Hamilton\, Ontario\, L9K 1P6\, Canada
END:VEVENT
END:VCALENDAR