BEGIN:VCALENDAR
VERSION:2.0
PRODID:-//Dan Dyer Music - ECPv6.15.20//NONSGML v1.0//EN
CALSCALE:GREGORIAN
METHOD:PUBLISH
X-ORIGINAL-URL:https://dandyermusic.ca
X-WR-CALDESC:Events for Dan Dyer Music
REFRESH-INTERVAL;VALUE=DURATION:PT1H
X-Robots-Tag:noindex
X-PUBLISHED-TTL:PT1H
BEGIN:VTIMEZONE
TZID:Asia/Dubai
BEGIN:STANDARD
TZOFFSETFROM:+0400
TZOFFSETTO:+0400
TZNAME:+04
DTSTART:20210101T000000
END:STANDARD
END:VTIMEZONE
BEGIN:VEVENT
DTSTART;TZID=Asia/Dubai:20220823T140000
DTEND;TZID=Asia/Dubai:20220823T150000
DTSTAMP:20260421T161222
CREATED:20220602T210926Z
LAST-MODIFIED:20220602T210926Z
UID:468-1661263200-1661266800@dandyermusic.ca
SUMMARY:Heatherwood Retirement Residence - Assisted Living
DESCRIPTION:
URL:https://dandyermusic.ca/event/heatherwood-retirement-residence-assisted-living-2/
END:VEVENT
END:VCALENDAR