BEGIN:VCALENDAR
VERSION:2.0
PRODID:-//Dan Dyer Music - ECPv6.15.20//NONSGML v1.0//EN
CALSCALE:GREGORIAN
METHOD:PUBLISH
X-ORIGINAL-URL:https://dandyermusic.ca
X-WR-CALDESC:Events for Dan Dyer Music
REFRESH-INTERVAL;VALUE=DURATION:PT1H
X-Robots-Tag:noindex
X-PUBLISHED-TTL:PT1H
BEGIN:VTIMEZONE
TZID:Asia/Dubai
BEGIN:STANDARD
TZOFFSETFROM:+0400
TZOFFSETTO:+0400
TZNAME:+04
DTSTART:20210101T000000
END:STANDARD
END:VTIMEZONE
BEGIN:VEVENT
DTSTART;TZID=Asia/Dubai:20220813T180000
DTEND;TZID=Asia/Dubai:20220813T220000
DTSTAMP:20260421T161220
CREATED:20220625T142530Z
LAST-MODIFIED:20220625T142530Z
UID:541-1660413600-1660428000@dandyermusic.ca
SUMMARY:Cameron/Dyer at Highland RV Camping Resort
DESCRIPTION:
URL:https://dandyermusic.ca/event/cameron-dyer-at-highland-rv-camping-resort/
LOCATION:Highland RV Camping Resort\, 1958 N Shore Dr\, Lowbanks\, Ontario\, N0A 1K0\, Canada
END:VEVENT
END:VCALENDAR