BEGIN:VCALENDAR
VERSION:2.0
PRODID:-//Dan Dyer Music - ECPv6.15.20//NONSGML v1.0//EN
CALSCALE:GREGORIAN
METHOD:PUBLISH
X-WR-CALNAME:Dan Dyer Music
X-ORIGINAL-URL:https://dandyermusic.ca
X-WR-CALDESC:Events for Dan Dyer Music
REFRESH-INTERVAL;VALUE=DURATION:PT1H
X-Robots-Tag:noindex
X-PUBLISHED-TTL:PT1H
BEGIN:VTIMEZONE
TZID:UTC
BEGIN:STANDARD
TZOFFSETFROM:+0000
TZOFFSETTO:+0000
TZNAME:UTC
DTSTART:20210101T000000
END:STANDARD
END:VTIMEZONE
BEGIN:VEVENT
DTSTART;TZID=UTC:20220713T123000
DTEND;TZID=UTC:20220713T133000
DTSTAMP:20260421T174743
CREATED:20220617T200348Z
LAST-MODIFIED:20220617T201728Z
UID:530-1657715400-1657719000@dandyermusic.ca
SUMMARY:Chartwell Willowgrove
DESCRIPTION:Chartwell
URL:https://dandyermusic.ca/event/chartwell-willowgrove/
LOCATION:Chartwell Willowgrove LTC\, 1217 Old Mohawk Rd\, Hamilton\, Ontario\, L9K 1P6\, Canada
END:VEVENT
END:VCALENDAR