BEGIN:VCALENDAR
VERSION:2.0
PRODID:-//Dan Dyer Music - ECPv6.15.20//NONSGML v1.0//EN
CALSCALE:GREGORIAN
METHOD:PUBLISH
X-WR-CALNAME:Dan Dyer Music
X-ORIGINAL-URL:https://dandyermusic.ca
X-WR-CALDESC:Events for Dan Dyer Music
REFRESH-INTERVAL;VALUE=DURATION:PT1H
X-Robots-Tag:noindex
X-PUBLISHED-TTL:PT1H
BEGIN:VTIMEZONE
TZID:UTC
BEGIN:STANDARD
TZOFFSETFROM:+0000
TZOFFSETTO:+0000
TZNAME:UTC
DTSTART:20210101T000000
END:STANDARD
END:VTIMEZONE
BEGIN:VEVENT
DTSTART;TZID=UTC:20220626T190000
DTEND;TZID=UTC:20220626T220000
DTSTAMP:20260421T192057
CREATED:20220609T003617Z
LAST-MODIFIED:20220609T003617Z
UID:500-1656270000-1656280800@dandyermusic.ca
SUMMARY:Private Function
DESCRIPTION:
URL:https://dandyermusic.ca/event/private-function-2/
LOCATION:Private Function
END:VEVENT
END:VCALENDAR