BEGIN:VCALENDAR
VERSION:2.0
PRODID:-//Dan Dyer Music - ECPv6.15.20//NONSGML v1.0//EN
CALSCALE:GREGORIAN
METHOD:PUBLISH
X-ORIGINAL-URL:https://dandyermusic.ca
X-WR-CALDESC:Events for Dan Dyer Music
REFRESH-INTERVAL;VALUE=DURATION:PT1H
X-Robots-Tag:noindex
X-PUBLISHED-TTL:PT1H
BEGIN:VTIMEZONE
TZID:Asia/Dubai
BEGIN:STANDARD
TZOFFSETFROM:+0400
TZOFFSETTO:+0400
TZNAME:+04
DTSTART:20210101T000000
END:STANDARD
END:VTIMEZONE
BEGIN:VTIMEZONE
TZID:UTC
BEGIN:STANDARD
TZOFFSETFROM:+0000
TZOFFSETTO:+0000
TZNAME:UTC
DTSTART:20210101T000000
END:STANDARD
END:VTIMEZONE
BEGIN:VEVENT
DTSTART;TZID=Asia/Dubai:20220619T140000
DTEND;TZID=Asia/Dubai:20220619T150000
DTSTAMP:20260421T192045
CREATED:20220512T223919Z
LAST-MODIFIED:20220512T223919Z
UID:455-1655647200-1655650800@dandyermusic.ca
SUMMARY:Chartwell Brant Centre LTCR
DESCRIPTION:
URL:https://dandyermusic.ca/event/chartwell-brant-centre-ltcr/
LOCATION:Chartwell Brant Centre LTCR\, 1182 North Shore Blvd E\, Burlington\, Ontario\, L7S 1C5\, Canada
END:VEVENT
BEGIN:VEVENT
DTSTART;TZID=UTC:20220619T163000
DTEND;TZID=UTC:20220619T203000
DTSTAMP:20260421T192045
CREATED:20220616T155636Z
LAST-MODIFIED:20220616T155636Z
UID:518-1655656200-1655670600@dandyermusic.ca
SUMMARY:Gator At The Norfolk
DESCRIPTION:
URL:https://dandyermusic.ca/event/gator-at-the-norfolk-4/
LOCATION:Gator at The Norfolk\, 200 Main St\, Port Dover\, Ontario\, N0A 1N0\, Canada
END:VEVENT
END:VCALENDAR