BEGIN:VCALENDAR
VERSION:2.0
PRODID:-//Dan Dyer Music - ECPv6.15.20//NONSGML v1.0//EN
CALSCALE:GREGORIAN
METHOD:PUBLISH
X-ORIGINAL-URL:https://dandyermusic.ca
X-WR-CALDESC:Events for Dan Dyer Music
REFRESH-INTERVAL;VALUE=DURATION:PT1H
X-Robots-Tag:noindex
X-PUBLISHED-TTL:PT1H
BEGIN:VTIMEZONE
TZID:UTC
BEGIN:STANDARD
TZOFFSETFROM:+0000
TZOFFSETTO:+0000
TZNAME:UTC
DTSTART:20210101T000000
END:STANDARD
END:VTIMEZONE
BEGIN:VEVENT
DTSTART;TZID=UTC:20220512T144500
DTEND;TZID=UTC:20220512T154500
DTSTAMP:20260421T204705
CREATED:20220325T175943Z
LAST-MODIFIED:20220325T180738Z
UID:397-1652366700-1652370300@dandyermusic.ca
SUMMARY:Parkview Nursing Centre
DESCRIPTION:
URL:https://dandyermusic.ca/event/parkview-nursing-centre/
LOCATION:Parkview Nursing Centre\, 545 King St W\, Hamilton\, Ontario\, L8P 1C1\, Canada
END:VEVENT
END:VCALENDAR