BEGIN:VCALENDAR
VERSION:2.0
PRODID:-//Dan Dyer Music - ECPv6.15.20//NONSGML v1.0//EN
CALSCALE:GREGORIAN
METHOD:PUBLISH
X-WR-CALNAME:Dan Dyer Music
X-ORIGINAL-URL:https://dandyermusic.ca
X-WR-CALDESC:Events for Dan Dyer Music
REFRESH-INTERVAL;VALUE=DURATION:PT1H
X-Robots-Tag:noindex
X-PUBLISHED-TTL:PT1H
BEGIN:VTIMEZONE
TZID:Asia/Dubai
BEGIN:STANDARD
TZOFFSETFROM:+0400
TZOFFSETTO:+0400
TZNAME:+04
DTSTART:20210101T000000
END:STANDARD
END:VTIMEZONE
BEGIN:VEVENT
DTSTART;TZID=Asia/Dubai:20220508T140000
DTEND;TZID=Asia/Dubai:20220508T180000
DTSTAMP:20260421T222334
CREATED:20220408T191731Z
LAST-MODIFIED:20220408T191731Z
UID:434-1652018400-1652032800@dandyermusic.ca
SUMMARY:Port Dover Legion
DESCRIPTION:
URL:https://dandyermusic.ca/event/port-dover-legion/
LOCATION:Port Dover Legion\, 212 Market St E\, Port Dover\, Ontario\, N0A 1N0\, Canada
END:VEVENT
END:VCALENDAR