BEGIN:VCALENDAR
VERSION:2.0
PRODID:-//Dan Dyer Music - ECPv6.15.20//NONSGML v1.0//EN
CALSCALE:GREGORIAN
METHOD:PUBLISH
X-WR-CALNAME:Dan Dyer Music
X-ORIGINAL-URL:https://dandyermusic.ca
X-WR-CALDESC:Events for Dan Dyer Music
REFRESH-INTERVAL;VALUE=DURATION:PT1H
X-Robots-Tag:noindex
X-PUBLISHED-TTL:PT1H
BEGIN:VTIMEZONE
TZID:Asia/Dubai
BEGIN:STANDARD
TZOFFSETFROM:+0400
TZOFFSETTO:+0400
TZNAME:+04
DTSTART:20210101T000000
END:STANDARD
END:VTIMEZONE
BEGIN:VTIMEZONE
TZID:Asia/Karachi
BEGIN:STANDARD
TZOFFSETFROM:+0500
TZOFFSETTO:+0500
TZNAME:PKT
DTSTART:20210101T000000
END:STANDARD
END:VTIMEZONE
BEGIN:VEVENT
DTSTART;TZID=Asia/Dubai:20220505T141500
DTEND;TZID=Asia/Dubai:20220505T151500
DTSTAMP:20260421T222332
CREATED:20220331T185757Z
LAST-MODIFIED:20220331T185757Z
UID:421-1651760100-1651763700@dandyermusic.ca
SUMMARY:St. Peter's Residence at Chedoke
DESCRIPTION:
URL:https://dandyermusic.ca/event/st-peters-residence-at-chedoke/
LOCATION:St. Peter’s Residence at Chedoke\, 125 Redfern Avenue\, Hamilton\, Ontario\, L9C 7W9
END:VEVENT
BEGIN:VEVENT
DTSTART;TZID=Asia/Karachi:20220505T190000
DTEND;TZID=Asia/Karachi:20220505T230000
DTSTAMP:20260421T222332
CREATED:20220323T183810Z
LAST-MODIFIED:20220504T145904Z
UID:350-1651777200-1651791600@dandyermusic.ca
SUMMARY:Postponed - Gator at The Norfolk
DESCRIPTION:
URL:https://dandyermusic.ca/event/gator-at-the-norfolk/
LOCATION:Gator at The Norfolk\, 200 Main St\, Port Dover\, Ontario\, N0A 1N0\, Canada
END:VEVENT
END:VCALENDAR