BEGIN:VCALENDAR
VERSION:2.0
PRODID:-//Dan Dyer Music - ECPv6.15.20//NONSGML v1.0//EN
CALSCALE:GREGORIAN
METHOD:PUBLISH
X-ORIGINAL-URL:https://dandyermusic.ca
X-WR-CALDESC:Events for Dan Dyer Music
REFRESH-INTERVAL;VALUE=DURATION:PT1H
X-Robots-Tag:noindex
X-PUBLISHED-TTL:PT1H
BEGIN:VTIMEZONE
TZID:Asia/Karachi
BEGIN:STANDARD
TZOFFSETFROM:+0500
TZOFFSETTO:+0500
TZNAME:PKT
DTSTART:20210101T000000
END:STANDARD
END:VTIMEZONE
BEGIN:VEVENT
DTSTART;TZID=Asia/Karachi:20220423T200000
DTEND;TZID=Asia/Karachi:20220423T233000
DTSTAMP:20260421T221631
CREATED:20220324T165212Z
LAST-MODIFIED:20220324T165627Z
UID:364-1650744000-1650756600@dandyermusic.ca
SUMMARY:The Brown Barrel on Upper Ottawa St in Hamilton
DESCRIPTION:
URL:https://dandyermusic.ca/event/brown-barrel/
LOCATION:Brown Barrrel\, 1515 Upper Ottawa St\, Hamilton\, ON\, L8W 3E2\, Canada
END:VEVENT
END:VCALENDAR