BEGIN:VCALENDAR
VERSION:2.0
PRODID:-//Dan Dyer Music - ECPv6.15.20//NONSGML v1.0//EN
CALSCALE:GREGORIAN
METHOD:PUBLISH
X-WR-CALNAME:Dan Dyer Music
X-ORIGINAL-URL:https://dandyermusic.ca
X-WR-CALDESC:Events for Dan Dyer Music
REFRESH-INTERVAL;VALUE=DURATION:PT1H
X-Robots-Tag:noindex
X-PUBLISHED-TTL:PT1H
BEGIN:VTIMEZONE
TZID:Asia/Dubai
BEGIN:STANDARD
TZOFFSETFROM:+0400
TZOFFSETTO:+0400
TZNAME:+04
DTSTART:20210101T000000
END:STANDARD
END:VTIMEZONE
BEGIN:VEVENT
DTSTART;TZID=Asia/Dubai:20220421T143000
DTEND;TZID=Asia/Dubai:20220421T153000
DTSTAMP:20260421T222334
CREATED:20220329T144803Z
LAST-MODIFIED:20220329T144803Z
UID:407-1650551400-1650555000@dandyermusic.ca
SUMMARY:Heritage Green Nursing Home
DESCRIPTION:
URL:https://dandyermusic.ca/event/heritage-green-nursing-home/
LOCATION:Heritage Green Nursing Home\, 353 Isaac Brock Drive\, Stoney Creek\, Ontaio\, L8J 2J3\, Canada
END:VEVENT
END:VCALENDAR